BEGIN:VCALENDAR
VERSION:2.0
PRODID:-//www.bik.sk - ECPv6.15.17.1//NONSGML v1.0//EN
CALSCALE:GREGORIAN
METHOD:PUBLISH
X-WR-CALNAME:www.bik.sk
X-ORIGINAL-URL:https://bik.sk
X-WR-CALDESC:Udalosti pre www.bik.sk
REFRESH-INTERVAL;VALUE=DURATION:PT1H
X-Robots-Tag:noindex
X-PUBLISHED-TTL:PT1H
BEGIN:VTIMEZONE
TZID:Europe/Bratislava
BEGIN:DAYLIGHT
TZOFFSETFROM:+0100
TZOFFSETTO:+0200
TZNAME:CEST
DTSTART:20250330T010000
END:DAYLIGHT
BEGIN:STANDARD
TZOFFSETFROM:+0200
TZOFFSETTO:+0100
TZNAME:CET
DTSTART:20251026T010000
END:STANDARD
BEGIN:DAYLIGHT
TZOFFSETFROM:+0100
TZOFFSETTO:+0200
TZNAME:CEST
DTSTART:20260329T010000
END:DAYLIGHT
BEGIN:STANDARD
TZOFFSETFROM:+0200
TZOFFSETTO:+0100
TZNAME:CET
DTSTART:20261025T010000
END:STANDARD
BEGIN:DAYLIGHT
TZOFFSETFROM:+0100
TZOFFSETTO:+0200
TZNAME:CEST
DTSTART:20270328T010000
END:DAYLIGHT
BEGIN:STANDARD
TZOFFSETFROM:+0200
TZOFFSETTO:+0100
TZNAME:CET
DTSTART:20271031T010000
END:STANDARD
END:VTIMEZONE
BEGIN:VEVENT
DTSTART;TZID=Europe/Bratislava:20260417T170000
DTEND;TZID=Europe/Bratislava:20260417T180000
DTSTAMP:20260425T172822
CREATED:20260330T185142Z
LAST-MODIFIED:20260330T185142Z
UID:1988-1776445200-1776448800@bik.sk
SUMMARY:#8 DAVAJ HET
DESCRIPTION:Pravidelný komunitný beh B-I-K \nZačíname. Nie pre výkon. Pre ľudí.\nDAVAJ HET je nový komunitný beh pre všetkých\, ktorí chcú rozhýbať telo\, vyčistiť hlavu a stretnúť sa s ľuďmi\, ktorí majú radi rovnakú energiu – beh\, pohodu a dobrú atmosféru. \n👉 Nezáleží\, či beháš pravidelne alebo si ideš prvýkrát zabehať po dlhej dobe\n👉 Nezáleží na tempe – bežíme spolu\n👉 Môžeš prísť aj s kamarátom\, partnerom alebo len tak sám \nCieľ? Prísť. Usmiať sa. Dať si to znova.\nToto nie sú preteky.\nToto je začiatok komunity okolo B-I-K. \nPríď si dať prvý DAVAJ HET a zisti\, prečo sa na B-I-K nechodí len kvôli behu\, ale kvôli ľuďom. \n🔥 Beh. Hudba. Pohoda.
URL:https://bik.sk/udalosti/8-davaj-het/
LOCATION:Futbalové ihrisko Iliašovce\, Iliašovce 185\, Iliašovce\, 05311\, Slovakia (Slovak Republic)
CATEGORIES:DAVAJ HET
ATTACH;FMTTYPE=image/jpeg:https://bik.sk/wp-content/uploads/2026/03/komunitny-beh_davajhet.jpg
END:VEVENT
END:VCALENDAR